BEGIN:VCALENDAR
VERSION:2.0
PRODID:-//Seva Dhruthi - ECPv6.15.20//NONSGML v1.0//EN
CALSCALE:GREGORIAN
METHOD:PUBLISH
X-WR-CALNAME:Seva Dhruthi
X-ORIGINAL-URL:https://sevadhruthi.org
X-WR-CALDESC:Events for Seva Dhruthi
REFRESH-INTERVAL;VALUE=DURATION:PT1H
X-Robots-Tag:noindex
X-PUBLISHED-TTL:PT1H
BEGIN:VTIMEZONE
TZID:America/Chicago
BEGIN:DAYLIGHT
TZOFFSETFROM:-0600
TZOFFSETTO:-0500
TZNAME:CDT
DTSTART:20230312T080000
END:DAYLIGHT
BEGIN:STANDARD
TZOFFSETFROM:-0500
TZOFFSETTO:-0600
TZNAME:CST
DTSTART:20231105T070000
END:STANDARD
BEGIN:DAYLIGHT
TZOFFSETFROM:-0600
TZOFFSETTO:-0500
TZNAME:CDT
DTSTART:20240310T080000
END:DAYLIGHT
BEGIN:STANDARD
TZOFFSETFROM:-0500
TZOFFSETTO:-0600
TZNAME:CST
DTSTART:20241103T070000
END:STANDARD
BEGIN:DAYLIGHT
TZOFFSETFROM:-0600
TZOFFSETTO:-0500
TZNAME:CDT
DTSTART:20250309T080000
END:DAYLIGHT
BEGIN:STANDARD
TZOFFSETFROM:-0500
TZOFFSETTO:-0600
TZNAME:CST
DTSTART:20251102T070000
END:STANDARD
BEGIN:DAYLIGHT
TZOFFSETFROM:-0600
TZOFFSETTO:-0500
TZNAME:CDT
DTSTART:20260308T080000
END:DAYLIGHT
BEGIN:STANDARD
TZOFFSETFROM:-0500
TZOFFSETTO:-0600
TZNAME:CST
DTSTART:20261101T070000
END:STANDARD
END:VTIMEZONE
BEGIN:VEVENT
DTSTART;TZID=America/Chicago:20250111T000000
DTEND;TZID=America/Chicago:20250216T000000
DTSTAMP:20260419T080451
CREATED:20250112T020142Z
LAST-MODIFIED:20250120T060016Z
UID:9158-1736553600-1739664000@sevadhruthi.org
SUMMARY:Wildfire Relief in Southern California
DESCRIPTION:The Southern California fires have resulted in tragic loss of life and widespread destruction of homes and property\, causing significant displacement and hardship for many residents. \n \n\nThese fires also have a significant environmental impact\, impacting air quality\, damaging ecosystems\, and contributing to climate change.\n \n\n\nPlease join us in supporting those impacted by the devastating fires. Seva Dhruthi is planning to use 100% of proceeds towards specific impacts and organizations working locally in the area. Let’s come together to help rebuild and recover.\n \n\n\n\n Donate
URL:https://sevadhruthi.org/event/wildfire-relief-in-southern-california/
CATEGORIES:Community Upliftment
ORGANIZER;CN="Seva Dhruthi":MAILTO:info@sevadhruthi.org
END:VEVENT
BEGIN:VEVENT
DTSTART;TZID=America/Chicago:20241115T000000
DTEND;TZID=America/Chicago:20241216T000000
DTSTAMP:20260419T080451
CREATED:20241118T000917Z
LAST-MODIFIED:20241119T024108Z
UID:9053-1731628800-1734307200@sevadhruthi.org
SUMMARY:Sewa Diwali Food Drive 2024
DESCRIPTION:Seva Dhruthi is proud to partner with Sewa Diwali for the 2024 Food Drive\, one of the largest charitable food drives in the United States. Through this initiative\, we aim to address food insecurity in our communities by collecting and distributing essential food items to those in need. This partnership allows us to bring together volunteers\, donors\, and supporters\, all working towards the shared goal of ending hunger and supporting our neighbors. \n\n\n\nBy aligning with the Sewa Diwali Food Drive\, we celebrate Diwali\, a cherished Indian festival of light and joy\, through the spirit of service. This initiative reflects the core values of compassion and unity\, as we bring communities together to support a meaningful cause. Seva Dhruthi is grateful for the opportunity to give back to our neighborhood during this auspicious time and make a positive impact through this remarkable collaboration. \n\n\n\n Donate
URL:https://sevadhruthi.org/event/sewa-diwali-food-drive-2024/
CATEGORIES:Community Upliftment
ORGANIZER;CN="Seva Dhruthi":MAILTO:info@sevadhruthi.org
END:VEVENT
END:VCALENDAR